BEGIN:VCALENDAR
VERSION:2.0
CALSCALE:GREGORIAN
METHOD:PUBLISH
PRODID://MORT//1413003
BEGIN:VEVENT
DTSTAMP:20260423T102007
VTIMEZONE:America/Chicago
DTSTART:20260207T150000Z
DTEND:20260228T230000Z
UID:1413003
SUMMARY:Furever Farm Rescue Donation Event
LOCATION:Heartland Bank and Trust CO. , 179 E Courtland Street, Morton, IL, 61550
DESCRIPTION:Furever Farm Rescue Donation Event\n\n02/07/26 09:00 AM CST\n - 02/28/26 05:00 PM CST\Description:\nHeartland Bank and Trust Co. is partnering with a local non-profit animal rescue Furever Farm Rescue. We will be accepting item donations for the month of February on their behalf. Any dog or cat items can be dropped off at either of our locations in Morton at 179 E Courtland St. or 223 S. Main St. or our location in Pekin at 3400 Court Street, or 2 locations in Peoria at 9010 N Allen Rd. and 3501 W War Memorial Drive. \Details:\nPlease drop off item donations to any Heartland Bank and Trust Co. branch location in Morton, Pekin, or Peoria. Thank you for your support of this small local rescue. \Location:\nHeartland Bank and Trust CO. \n179 E Courtland Street\nMorton, IL 61550
X-ALT-DESC;FMTTYPE=text/html:Furever Farm Rescue Donation Event<br /><br />02/07/26 09:00 AM CST - 02/28/26 05:00 PM CST<br />Description:<br />Heartland Bank and Trust Co. is partnering&nbsp;with a local non-profit animal rescue Furever Farm Rescue. We will be accepting&nbsp;item donations for the month of February on their behalf. Any dog or cat items can be dropped off at either of our locations in Morton at 179 E Courtland St. or 223 S. Main St. or our location in Pekin at 3400 Court Street, or 2 locations in Peoria at 9010 N Allen Rd. and 3501 W War Memorial Drive.&nbsp;<br />Details:<br />Please drop off item donations to any Heartland Bank and Trust Co. branch location in Morton, Pekin, or Peoria. Thank you for your support of this small local rescue.&nbsp;<br />Location:<br />Heartland Bank and Trust CO. <br />179 E Courtland Street<br />Morton, IL 61550
PRIORITY:3
TRANSP:TRANSPARENT
BEGIN:VALARM
TRIGGER:-PT5M
ACTION:DISPLAY
DESCRIPTION:Reminder
END:VALARM
END:VEVENT
END:VCALENDAR
